BEGIN:VCALENDAR
VERSION:2.0
PRODID:-//UJazz - ECPv6.15.20//NONSGML v1.0//EN
CALSCALE:GREGORIAN
METHOD:PUBLISH
X-WR-CALNAME:UJazz
X-ORIGINAL-URL:https://www.ujazz.nl
X-WR-CALDESC:Evenementen voor UJazz
REFRESH-INTERVAL;VALUE=DURATION:PT1H
X-Robots-Tag:noindex
X-PUBLISHED-TTL:PT1H
BEGIN:VTIMEZONE
TZID:Europe/Amsterdam
BEGIN:DAYLIGHT
TZOFFSETFROM:+0100
TZOFFSETTO:+0200
TZNAME:CEST
DTSTART:20240331T010000
END:DAYLIGHT
BEGIN:STANDARD
TZOFFSETFROM:+0200
TZOFFSETTO:+0100
TZNAME:CET
DTSTART:20241027T010000
END:STANDARD
BEGIN:DAYLIGHT
TZOFFSETFROM:+0100
TZOFFSETTO:+0200
TZNAME:CEST
DTSTART:20250330T010000
END:DAYLIGHT
BEGIN:STANDARD
TZOFFSETFROM:+0200
TZOFFSETTO:+0100
TZNAME:CET
DTSTART:20251026T010000
END:STANDARD
BEGIN:DAYLIGHT
TZOFFSETFROM:+0100
TZOFFSETTO:+0200
TZNAME:CEST
DTSTART:20260329T010000
END:DAYLIGHT
BEGIN:STANDARD
TZOFFSETFROM:+0200
TZOFFSETTO:+0100
TZNAME:CET
DTSTART:20261025T010000
END:STANDARD
END:VTIMEZONE
BEGIN:VEVENT
DTSTART;TZID=Europe/Amsterdam:20250307T200000
DTEND;TZID=Europe/Amsterdam:20250307T223000
DTSTAMP:20260419T212350
CREATED:20241215T132817Z
LAST-MODIFIED:20250103T095555Z
UID:3952-1741377600-1741386600@www.ujazz.nl
SUMMARY:Nieuwe Jazz - Linde Tillmanns - Stillness
DESCRIPTION:In seizoen 2024-2025 organiseren UJazz en ZenneZ records\, samen met TivoliVredenburg\, een serie Nieuwe Jazz\, met presentaties van nieuwe albums. Op vrijdag 7 maart met Linde Tillmanns en haar album Stillness. chaos\, thoughts\, feelings \nLinde Tillmanns (1998) is pianist\, multi-instrumentalist en componist. Ze maakt moderne jazz met de intimiteit en persoonlijke touch van een singer/songwriter. Haar muziek is gedreven door ontdekkingszin naar nieuwe klankwerelden\, ritmes en melodieën die haar raken. Traditionele muziek uit verschillende landen vormt voor haar een andere grote inspiratie. Het diepst is zij gedoken in Braziliaanse en Ierse muziek. \nNa een jaar op de vooropleiding van de rockacademie (BMEC) is ze op het Utrechts Conservatorium gaan studeren. Drie jaar lang volgde ze de opleiding ‘Musician 3.0’\, waar de focus ligt op het ontwikkelen van artistieke identiteit\, creëren en conceptueel denken. In haar vierde jaar ging ze op uitwisseling naar Aalborg\, Denemarken om zich een jaar te wijden aan jazz-piano. Inmiddels is ze actief in verschillende projecten en daarnaast werkzaam als pianodocent. \nEind 2024 kwam haar eerste volledige album uit\, waaruit ze vanavond speelt met haar sextet. \nVideo: lindetillmanns.com \n \nLine up:\nLinde Tillmanns- piano/composities \nJaap de Vries- trompet\nTania Zountsa- altsaxofoon \nMauricio von Ropi- baritonsaxofoon/fluit\nAnosh ter Haar- bas\nAurel Violas- drums \nToegang €15\,- (UJazz leden €10\,-) \nLET OP: dit concert is in DUMS – Marnixzaal \n\n\n \nKaarten aan de zaal en te bestellen via ujazz/nieuwe-jazz/linde-tillmanns \nUJazz werkt samen met wearepublic.nl
URL:https://www.ujazz.nl/event/nieuwe-jazz-linde-tillmanns-stillness-dums-vrijdag-7-maart/
LOCATION:DUMStad (voormalige muziekschool)\, Domplein 4\, Utrecht\, Nederland
CATEGORIES:concert
END:VEVENT
END:VCALENDAR