BEGIN:VCALENDAR
VERSION:2.0
PRODID:-//UJazz - ECPv6.15.20//NONSGML v1.0//EN
CALSCALE:GREGORIAN
METHOD:PUBLISH
X-ORIGINAL-URL:https://www.ujazz.nl
X-WR-CALDESC:Evenementen voor UJazz
REFRESH-INTERVAL;VALUE=DURATION:PT1H
X-Robots-Tag:noindex
X-PUBLISHED-TTL:PT1H
BEGIN:VTIMEZONE
TZID:Europe/Amsterdam
BEGIN:DAYLIGHT
TZOFFSETFROM:+0100
TZOFFSETTO:+0200
TZNAME:CEST
DTSTART:20240331T010000
END:DAYLIGHT
BEGIN:STANDARD
TZOFFSETFROM:+0200
TZOFFSETTO:+0100
TZNAME:CET
DTSTART:20241027T010000
END:STANDARD
BEGIN:DAYLIGHT
TZOFFSETFROM:+0100
TZOFFSETTO:+0200
TZNAME:CEST
DTSTART:20250330T010000
END:DAYLIGHT
BEGIN:STANDARD
TZOFFSETFROM:+0200
TZOFFSETTO:+0100
TZNAME:CET
DTSTART:20251026T010000
END:STANDARD
BEGIN:DAYLIGHT
TZOFFSETFROM:+0100
TZOFFSETTO:+0200
TZNAME:CEST
DTSTART:20260329T010000
END:DAYLIGHT
BEGIN:STANDARD
TZOFFSETFROM:+0200
TZOFFSETTO:+0100
TZNAME:CET
DTSTART:20261025T010000
END:STANDARD
END:VTIMEZONE
BEGIN:VEVENT
DTSTART;TZID=Europe/Amsterdam:20250606T200000
DTEND;TZID=Europe/Amsterdam:20250606T223000
DTSTAMP:20260424T091858
CREATED:20250112T194755Z
LAST-MODIFIED:20250502T134022Z
UID:3961-1749240000-1749249000@www.ujazz.nl
SUMMARY:Nieuwe Jazz - Maarten Voortman - Haas
DESCRIPTION:foto: Alice Allegri \nIn seizoen 2024-2025 organiseren UJazz en ZenneZ records\, samen met TivoliVredenburg\, een serie Nieuwe Jazz\, met presentaties van nieuwe albums. Op vrijdag 6 juni met Maarten Voorman en het album Haas. \nMaarten Voortman speelt al zolang hij zich kan herinneren piano. Na het behalen van zijn bachelor aan ArtEZ Arnhem studeerde hij cum laude af als Master of Music aan het Conservatorium van Amsterdam\, een lang gekoesterde droom. Als speler is zijn stijl gemakkelijk herkenbaar en persoonlijk. Hij heeft een stevige greep op de jazztraditie\, een gevolg van een vurige liefde en bewondering voor bebop pianist Bud Powell\, die tot op de dag van vandaag een voorbeeld blijft. Toch is zijn bereik net zo breed als zijn muzieksmaak\, variërend van jazz tot pop en klassieke muziek. \nIn de afgelopen jaren heeft hij naam gemaakt in de stad Amsterdam\, als een vaste waarde op de scène en een veelgevraagd pianist. Hij organiseert zijn eigen bandavonden bij Meneer de Wit Heeft Honger. Hij is op tournee geweest met zijn Bud Powell Tribute project en nam zijn eerste album Epilogue op in 2017. \nMaarten werkt nu aan zijn nieuwe album\, Haas\, met Mo van der Does\, Jeroen Batterink en Hendrik Mueller. \nBezetting \nMaarten Voortman – piano \nMo van der Does – sax \nJeroen Batterink –  drums \nHendrik Mueller – bas \n  \nToegang €15\,- (UJazz leden €10\,-) \nDe Oude Muziekschool\, Domplein 4 \n\n\n \nKaarten aan de zaal en te bestellen via ujazz/nieuwe-jazz/maarten-voortman \nUJazz werkt samen met wearepublic.nl
URL:https://www.ujazz.nl/event/nieuwe-jazz-maarten-voortman-haas/
LOCATION:De Oude Muziekschool\, Domplein 4\, Utrecht\, 3512 JE\, Netherlands
CATEGORIES:concert
END:VEVENT
END:VCALENDAR