BEGIN:VCALENDAR
VERSION:2.0
PRODID:-//UJazz - ECPv6.15.20//NONSGML v1.0//EN
CALSCALE:GREGORIAN
METHOD:PUBLISH
X-ORIGINAL-URL:https://www.ujazz.nl
X-WR-CALDESC:Evenementen voor UJazz
REFRESH-INTERVAL;VALUE=DURATION:PT1H
X-Robots-Tag:noindex
X-PUBLISHED-TTL:PT1H
BEGIN:VTIMEZONE
TZID:Europe/Amsterdam
BEGIN:DAYLIGHT
TZOFFSETFROM:+0100
TZOFFSETTO:+0200
TZNAME:CEST
DTSTART:20240331T010000
END:DAYLIGHT
BEGIN:STANDARD
TZOFFSETFROM:+0200
TZOFFSETTO:+0100
TZNAME:CET
DTSTART:20241027T010000
END:STANDARD
BEGIN:DAYLIGHT
TZOFFSETFROM:+0100
TZOFFSETTO:+0200
TZNAME:CEST
DTSTART:20250330T010000
END:DAYLIGHT
BEGIN:STANDARD
TZOFFSETFROM:+0200
TZOFFSETTO:+0100
TZNAME:CET
DTSTART:20251026T010000
END:STANDARD
BEGIN:DAYLIGHT
TZOFFSETFROM:+0100
TZOFFSETTO:+0200
TZNAME:CEST
DTSTART:20260329T010000
END:DAYLIGHT
BEGIN:STANDARD
TZOFFSETFROM:+0200
TZOFFSETTO:+0100
TZNAME:CET
DTSTART:20261025T010000
END:STANDARD
END:VTIMEZONE
BEGIN:VEVENT
DTSTART;TZID=Europe/Amsterdam:20250905T200000
DTEND;TZID=Europe/Amsterdam:20250905T223000
DTSTAMP:20260424T044506
CREATED:20250607T145049Z
LAST-MODIFIED:20250902T173012Z
UID:4115-1757102400-1757111400@www.ujazz.nl
SUMMARY:Nieuwe Jazz - Federica Lorusso – Incontri
DESCRIPTION:In seizoen 2025-2026 organiseren UJazz en ZenneZ records\, samen met TivoliVredenburg\, een serie Nieuwe Jazz\, met presentaties van nieuwe albums. Op vrijdag 5 september met Federica Lorusso en haar album Incontri. \nNa het succes van haar debuutalbum uit 2022\, Outside Introspections\, keert Federica terug met een nieuw album\, dat een evolutie in haar artistieke reis markeert. Incontri (‘Encounters’ of in goed NL ‘ontmoetingen’) is een persoonlijke weerspiegeling van haar ervaringen in steden als Bari\, Amsterdam en New York. Ze kreeg er een Edison Jazz Publieksprijs nominatie voor. \nHet album kent drie kernthema’s: de relatie van de mensheid met de natuur\, het opnieuw verbinden met het innerlijke kind en het opbouwen van zinvolle verbindingen in een steeds meer gefragmenteerde wereld. \nSpeelde ze op haar debuutalbum uitsluitend piano\, na het behalen van een master ‘zang’ presenteert Federica zich nu ook als vocaliste en waagt ze zich naast gloednieuw eigen werk ook aan Carla Bley. \nIncontri nodigt uit tot zelfreflectie en verbinding met anderen\, en vermengt elementen van jazz\, fusion\, hedendaagse muziek en experimentele geluiden.Improvisatie blijft een essentieel onderdeel van haar muziek. \nFederica heeft opgetreden op gerenommeerde festivals en podia\, waaronder het Fano Jazz Festival\, het Athens Jazz Festival\, JazzMi en het Bimhuis. Ze heeft samengewerkt met internationaal erkende artiesten zoals Eric Ineke\, Tineke Postma\, Fabrizio Bosso\, Rodney Green en Ben Van Gelder\, die te horen is op haar nieuwste album. \nBezetting \nFederica Lorusso – piano\, zang en composities \nLīva Dumpe – zang \nKetija Ringa Karahona – fluit \nTijs Klaassen – bas \n  \ntickets €15\,- (UJazz leden €10\,-) \nLocatie – Muziekhuis Utrecht\, Loevenhoutsedijk 301 \n\n\n \nKaarten aan de zaal en te bestellen via: ticket link volgt \nUJazz werkt samen met wearepublic.nl
URL:https://www.ujazz.nl/event/nieuwe-jazz-federica-lorusso-incontri/
LOCATION:Muziekhuis Utrecht\, Loevenhoutsedijk 301\, Utrecht\, 3552 XE
CATEGORIES:concert
ATTACH;FMTTYPE=image/jpeg:https://www.ujazz.nl/wp-content/uploads/2025/06/Federica-Lorusso-photo-Teemu-Kekkonen-scaled.jpg
END:VEVENT
END:VCALENDAR