BEGIN:VCALENDAR
VERSION:2.0
PRODID:-//UJazz - ECPv6.15.20//NONSGML v1.0//EN
CALSCALE:GREGORIAN
METHOD:PUBLISH
X-ORIGINAL-URL:https://www.ujazz.nl
X-WR-CALDESC:Evenementen voor UJazz
REFRESH-INTERVAL;VALUE=DURATION:PT1H
X-Robots-Tag:noindex
X-PUBLISHED-TTL:PT1H
BEGIN:VTIMEZONE
TZID:Europe/Amsterdam
BEGIN:DAYLIGHT
TZOFFSETFROM:+0100
TZOFFSETTO:+0200
TZNAME:CEST
DTSTART:20240331T010000
END:DAYLIGHT
BEGIN:STANDARD
TZOFFSETFROM:+0200
TZOFFSETTO:+0100
TZNAME:CET
DTSTART:20241027T010000
END:STANDARD
BEGIN:DAYLIGHT
TZOFFSETFROM:+0100
TZOFFSETTO:+0200
TZNAME:CEST
DTSTART:20250330T010000
END:DAYLIGHT
BEGIN:STANDARD
TZOFFSETFROM:+0200
TZOFFSETTO:+0100
TZNAME:CET
DTSTART:20251026T010000
END:STANDARD
BEGIN:DAYLIGHT
TZOFFSETFROM:+0100
TZOFFSETTO:+0200
TZNAME:CEST
DTSTART:20260329T010000
END:DAYLIGHT
BEGIN:STANDARD
TZOFFSETFROM:+0200
TZOFFSETTO:+0100
TZNAME:CET
DTSTART:20261025T010000
END:STANDARD
END:VTIMEZONE
BEGIN:VEVENT
DTSTART;TZID=Europe/Amsterdam:20250919T200000
DTEND;TZID=Europe/Amsterdam:20250919T223000
DTSTAMP:20260424T044623
CREATED:20250608T073821Z
LAST-MODIFIED:20250704T110620Z
UID:4121-1758312000-1758321000@www.ujazz.nl
SUMMARY:Clubconcert - Bert van Erk Quartology
DESCRIPTION:UJazz en TivoliVredenburg organiseren elke 3e vrijdag van de maand een clubconcert. Op vrijdag 19 september 2025 met Bert van Erk Quartology \n\n\n\n\nQuartology speelt ‘Greatest Hits’ uit Bert’s productie van deze eeuw\, stukken van Miguel en René en van oude meesters als Ellington en Gillespie. In september 2024 brachten ze het album Quartology uit. \nContrabassist Bert van Erk (1948) studeerde aan het Conservatorium in Amsterdam. Speelde al in de jaren ‘70 met de Boy Edgar Big Band en met jazzlegendes als Dexter Gordon\, Slide Hampton\, Benny Bailey\, Art Taylor\, Beaver Harris\, Kenny Wheeler\, John Engels\, Wim Overgaauw\, Joe Diorio\, Siegfried Kessler en Stan Tracey.Actuele bands zijn naast Quartology het Bert van Erk Werkman Trio met Micheal Moore en Sebastian Demydcuk\, Janssen\, VanErk & Janssen\, Linda’s Jazz en het Drie Sterren Trio. \nAltsaxofonist Miguel Martinez studeerde af met lof aan het Sweelinck Conservatorium in Amsterdam. Hij kreeg prijzen toebedeeld waaronder de International Jazz Contest Getxo (Bilbao\, 1994 met “Martinez Move” en de Heineken Crossover Award met “The New Cool Collective Big Band” 2001. Hij was/is te horen met Martinez Move\, New Cool Collective Bigband\, Major League\, Scetch\, Barnicle Bill Trio met de reeds legendarische drummer John Engels\, Los Hermanos Martinez Y Morelo met de bekende gitarist Eric Vaarzon Morel\, The Jazzorchestra of the Concertgebouw\, Rumbata Bigband\, Martinez Bros 5tet\, met zijn broer Juan Martinez op bariton sax en Rob van Bavel op piano. \nRene van Astenrode speelt vibrafoon en percussie. Studeerde aan de Conservatoria in Groningen en Den Haag. Toerde door Europa met diverse jazz formaties waaronder het Dutch Palladium Orchestra. Speelt in diverse bezettingen binnen de Groningse jazzscene waaronder zijn kwartet Good Vibes. \nDrummer Jeroen van Olphen studeerde aan Kunstacademie Minerva. Dat is voor een drummer niet ongewoon. Neem Han Bennink. Met het trio Oximodo won hij het Meervaart Jazzconcours en speelde hij meerdere keren in het Bimhuis. Hij produceerde multimedia-performances en startte project-bands als Sexy B en De Todos Modos Hij speelde met het Noordpool Composers Orchestra\, Gerard Ammerlaan Band\, Rai One \, Bert’s Breeze. \nMeer over Bert van Erk: www.bertvanerk.nl \n\n\n\n\nTicket €15\,- (UJazz leden €10\,-) \nLocatie: Muziekhuis Utrecht\, Loevenhoutsedijk 301 \n\n\n\nUJazz werkt samen met wearepublic.nl \nUJazz organiseert de clubconcerten samen met TivoliVredenburg \n \n 
URL:https://www.ujazz.nl/event/clubconcert-bert-van-erk-quartology/
LOCATION:Muziekhuis Utrecht\, Loevenhoutsedijk 301\, Utrecht\, 3552 XE
ATTACH;FMTTYPE=image/png:https://www.ujazz.nl/wp-content/uploads/2025/06/Bert-van-Erk-QUARTOLOGY.png
END:VEVENT
END:VCALENDAR