BEGIN:VCALENDAR
VERSION:2.0
PRODID:-//UJazz - ECPv6.15.20//NONSGML v1.0//EN
CALSCALE:GREGORIAN
METHOD:PUBLISH
X-WR-CALNAME:UJazz
X-ORIGINAL-URL:https://www.ujazz.nl
X-WR-CALDESC:Evenementen voor UJazz
REFRESH-INTERVAL;VALUE=DURATION:PT1H
X-Robots-Tag:noindex
X-PUBLISHED-TTL:PT1H
BEGIN:VTIMEZONE
TZID:Europe/Amsterdam
BEGIN:DAYLIGHT
TZOFFSETFROM:+0100
TZOFFSETTO:+0200
TZNAME:CEST
DTSTART:20240331T010000
END:DAYLIGHT
BEGIN:STANDARD
TZOFFSETFROM:+0200
TZOFFSETTO:+0100
TZNAME:CET
DTSTART:20241027T010000
END:STANDARD
BEGIN:DAYLIGHT
TZOFFSETFROM:+0100
TZOFFSETTO:+0200
TZNAME:CEST
DTSTART:20250330T010000
END:DAYLIGHT
BEGIN:STANDARD
TZOFFSETFROM:+0200
TZOFFSETTO:+0100
TZNAME:CET
DTSTART:20251026T010000
END:STANDARD
BEGIN:DAYLIGHT
TZOFFSETFROM:+0100
TZOFFSETTO:+0200
TZNAME:CEST
DTSTART:20260329T010000
END:DAYLIGHT
BEGIN:STANDARD
TZOFFSETFROM:+0200
TZOFFSETTO:+0100
TZNAME:CET
DTSTART:20261025T010000
END:STANDARD
END:VTIMEZONE
BEGIN:VEVENT
DTSTART;TZID=Europe/Amsterdam:20251121T200000
DTEND;TZID=Europe/Amsterdam:20251121T223000
DTSTAMP:20260424T012356
CREATED:20250913T074727Z
LAST-MODIFIED:20251109T194646Z
UID:4135-1763755200-1763764200@www.ujazz.nl
SUMMARY:Clubconcert - Utrecht Jazz Archipel - Urban Mosaic
DESCRIPTION:UJazz en TivoliVredenburg organiseren elke 3e vrijdag van de maand een clubconcert. Op vrijdag 21 november 2025 met Utrecht Jazz Archipel \nHet programma Urban Mosaic van Utrecht Jazz Archipel is een multidisciplinair live‑project waarin jazz\, poëzie en beeldende kunst samenkomen\, met de stad als inspiratiebron — zowel haar lichte kanten als de schaduwkanten. \nTwaalf dichter-componisten-duo’s werkten aan een verhaal dat ’s morgens vroeg begint en diep in de nacht eindigt. Daarbij maakte Mirjam Debets prachtige visuals. In woord\, beeld en klank weerspiegelen we de stad in haar aantrekkelijkheid en schaduwzijden. We vangen de tijdgeest via onderwerpen als hittestress\, feest en uitsluiting en via stadsbewoners als student\, vluchteling en dakloze.  \nVanavond draagt dichter Anne Broeksma stadsgedichten voor\, begeleid door een van de muzikanten. Alle gedichten staan in het programmaboekje\, om mee te lezen en naderhand nog eens te bekijken. Je krijgt dus als het ware een dichtbundel mee naar huis! \nBij de Utrecht Jazz Archipel is ‘het geheel meer dan de som der delen’: vanuit die overtuiging startte de Utrecht Jazz Archipel. Negen wijd en zijd gelauwerde Utrechtse jazzmusici begonnen in 2015 virtuoos en energiek elkaars composities te spelen\, regelmatig in samenwerking met jong talent en met gevestigde jazzmuzikanten. Iedere muzikant heeft een unieke stijl van spelen en van componeren en arrangeren\, publiek wordt ‘spelenderwijs’ meegevoerd in alle melodische en ritmische avonturen. Dit resulteert in een divers jazzrepertoire\, van modale flow-jazz tot op vrije improvisatie gebaseerde composities. \nBezetting: \nHenk Kraaijeveld – zang\, componistDion Nijland – bas\, componistMees Siderius – drums\, componistLida Brouskari – piano\, componistAd Colen – tenor/baritonsax\, componistAviv Noam – sax\, componistKees Adolfsen – trombone\, dichterGerben Klein Willink – trompet\, componist \nAnimatie: Mirjam DebetsEindregie: Annechien Koerselman \nTicket  €15\,- (UJazz leden €10\,-) \n\n\n\nUJazz werkt samen met wearepublic.nl \nUJazz organiseert de clubconcerten samen met TivoliVredenburg \n \n 
URL:https://www.ujazz.nl/event/clubconcert-utrecht-jazz-archipel-21-november-2025-utrecht-ujazz-urban-mosaic-multidisciplinair-live%e2%80%91project/
LOCATION:Muziekhuis Utrecht\, Loevenhoutsedijk 301\, Utrecht\, 3552 XE
END:VEVENT
END:VCALENDAR