BEGIN:VCALENDAR
VERSION:2.0
PRODID:-//UJazz - ECPv6.15.20//NONSGML v1.0//EN
CALSCALE:GREGORIAN
METHOD:PUBLISH
X-WR-CALNAME:UJazz
X-ORIGINAL-URL:https://www.ujazz.nl
X-WR-CALDESC:Evenementen voor UJazz
REFRESH-INTERVAL;VALUE=DURATION:PT1H
X-Robots-Tag:noindex
X-PUBLISHED-TTL:PT1H
BEGIN:VTIMEZONE
TZID:Europe/Amsterdam
BEGIN:DAYLIGHT
TZOFFSETFROM:+0100
TZOFFSETTO:+0200
TZNAME:CEST
DTSTART:20250330T010000
END:DAYLIGHT
BEGIN:STANDARD
TZOFFSETFROM:+0200
TZOFFSETTO:+0100
TZNAME:CET
DTSTART:20251026T010000
END:STANDARD
BEGIN:DAYLIGHT
TZOFFSETFROM:+0100
TZOFFSETTO:+0200
TZNAME:CEST
DTSTART:20260329T010000
END:DAYLIGHT
BEGIN:STANDARD
TZOFFSETFROM:+0200
TZOFFSETTO:+0100
TZNAME:CET
DTSTART:20261025T010000
END:STANDARD
BEGIN:DAYLIGHT
TZOFFSETFROM:+0100
TZOFFSETTO:+0200
TZNAME:CEST
DTSTART:20270328T010000
END:DAYLIGHT
BEGIN:STANDARD
TZOFFSETFROM:+0200
TZOFFSETTO:+0100
TZNAME:CET
DTSTART:20271031T010000
END:STANDARD
END:VTIMEZONE
BEGIN:VEVENT
DTSTART;TZID=Europe/Amsterdam:20260220T200000
DTEND;TZID=Europe/Amsterdam:20260220T223000
DTSTAMP:20260419T232725
CREATED:20251206T110556Z
LAST-MODIFIED:20251207T172013Z
UID:4367-1771617600-1771626600@www.ujazz.nl
SUMMARY:Clubconcert - Avishai Darash Quintet
DESCRIPTION:  \nElke 3e vrijdag van de maand organiseert UJazz een clubconcert. Op vrijdag 20 februari speelt het Avishai Darash Quintet. \nHet Avishai Darash Quintet is een gedurfde voortzetting van Darash’s veelgeprezen kwartet\, waarin de levendigheid van live elektronica samensmelt met de energie van een akoestische groovemachine. De composities putten eclectisch uit Noord-Afrikaanse tradities\, westerse klassieke muziek\, Amerikaanse jazz en Levantijnse volksmuziek. Samen creëren de muzikanten een groovende reis met onverwachte wendingen door rijkgeschakeerde muzikale landschappen. \nAvishai Darash is een in Amsterdam gevestigde pianist\, componist\, arrangeur\, producer en muzikaal directeur. Zijn genre overschrijdende composities verkennen ritme en melodie als universele talen en bouwen bruggen tussen culturen door middel van klank. Zijn oeuvre omvat diverse albums met  Between Hope and Despair (2024) als meest recente. \nBezetting \nAvishai Darash – piano\, keys \nItai Weissman – EWI \nAntonio Moreno Glazkov – trompet \nJeroen Vierdag – basgitaar \nYorán Vroom – drums \nTickets €15 (UJazz leden €10): ujazz.weticket \n\n\n\nUJazz werkt samen met wearepublic.nl \nUJazz organiseert de clubconcerten samen met TivoliVredenburg \n \n 
URL:https://www.ujazz.nl/event/clubconcert-avishai-darash-quintet/
LOCATION:Muziekhuis Utrecht\, Loevenhoutsedijk 301\, Utrecht\, 3552 XE
ATTACH;FMTTYPE=image/jpeg:https://www.ujazz.nl/wp-content/uploads/2025/12/NoahShaye-scaled.jpeg
END:VEVENT
END:VCALENDAR