BEGIN:VCALENDAR
VERSION:2.0
PRODID:-//UJazz - ECPv6.15.20//NONSGML v1.0//EN
CALSCALE:GREGORIAN
METHOD:PUBLISH
X-WR-CALNAME:UJazz
X-ORIGINAL-URL:https://www.ujazz.nl
X-WR-CALDESC:Evenementen voor UJazz
REFRESH-INTERVAL;VALUE=DURATION:PT1H
X-Robots-Tag:noindex
X-PUBLISHED-TTL:PT1H
BEGIN:VTIMEZONE
TZID:Europe/Amsterdam
BEGIN:DAYLIGHT
TZOFFSETFROM:+0100
TZOFFSETTO:+0200
TZNAME:CEST
DTSTART:20220327T010000
END:DAYLIGHT
BEGIN:STANDARD
TZOFFSETFROM:+0200
TZOFFSETTO:+0100
TZNAME:CET
DTSTART:20221030T010000
END:STANDARD
BEGIN:DAYLIGHT
TZOFFSETFROM:+0100
TZOFFSETTO:+0200
TZNAME:CEST
DTSTART:20230326T010000
END:DAYLIGHT
BEGIN:STANDARD
TZOFFSETFROM:+0200
TZOFFSETTO:+0100
TZNAME:CET
DTSTART:20231029T010000
END:STANDARD
BEGIN:DAYLIGHT
TZOFFSETFROM:+0100
TZOFFSETTO:+0200
TZNAME:CEST
DTSTART:20240331T010000
END:DAYLIGHT
BEGIN:STANDARD
TZOFFSETFROM:+0200
TZOFFSETTO:+0100
TZNAME:CET
DTSTART:20241027T010000
END:STANDARD
END:VTIMEZONE
BEGIN:VEVENT
DTSTART;TZID=Europe/Amsterdam:20230419T200000
DTEND;TZID=Europe/Amsterdam:20230419T224500
DTSTAMP:20260420T054706
CREATED:20230211T115759Z
LAST-MODIFIED:20230417T100204Z
UID:3066-1681934400-1681944300@www.ujazz.nl
SUMMARY:Jazzkelder UJazz in Kargadoor: Bieslook Karavaan & jam sessie
DESCRIPTION:Luisteren en meespelen in de Jazzkelder van UJazz\, op de 1e en 3e woensdag van de maand in de Kargadoor. Op woensdag 19 april met de Bieslook Karavaan. \nBieslook Karavaan werd in 2015 opgericht en serveert sfeervolle en aanstekelijke volksmuziek van over de hele wereld met een verrassende bezetting van (semi-) professionele muzikanten uit Nederland\, Turkije en Zwitserland. Bieslook Karavaan neemt het publiek mee op reis met melodische tango’s uit Argentinië\, pakkende Balkan ritmes en swingende gipsy jazz. Amsterdam is onze thuishaven en we spelen met veel plezier op unieke locaties\, bijzondere feesten en kleinschalige festivals in binnen- en buitenland. Bieslook Karavaan zal een sessie verzorgen met de kernbezetting van klarinet\, contrabas en gitaar. \nVoor meer informatie zie: www.bieslookkaravaan.com \n\n\n\n\n\n\n\nBands die een opening willen verzorgen in de Jazzkelder van UJazz kunnen zich melden via eteunissen@email.com onder vermelding van ‘jazzkelder’. \n\n\n\nDe toegang is gratis.
URL:https://www.ujazz.nl/event/jazzkelder-ujazz-in-kargadoor-bieslook-karavaan-jam-sessie/
LOCATION:kargadoor\, Oudegracht 36\, Utrecht\, 3511 AP\, Nederland
END:VEVENT
END:VCALENDAR