BEGIN:VCALENDAR
VERSION:2.0
PRODID:-//UJazz - ECPv6.15.20//NONSGML v1.0//EN
CALSCALE:GREGORIAN
METHOD:PUBLISH
X-WR-CALNAME:UJazz
X-ORIGINAL-URL:https://www.ujazz.nl
X-WR-CALDESC:Evenementen voor UJazz
REFRESH-INTERVAL;VALUE=DURATION:PT1H
X-Robots-Tag:noindex
X-PUBLISHED-TTL:PT1H
BEGIN:VTIMEZONE
TZID:Europe/Amsterdam
BEGIN:DAYLIGHT
TZOFFSETFROM:+0100
TZOFFSETTO:+0200
TZNAME:CEST
DTSTART:20220327T010000
END:DAYLIGHT
BEGIN:STANDARD
TZOFFSETFROM:+0200
TZOFFSETTO:+0100
TZNAME:CET
DTSTART:20221030T010000
END:STANDARD
BEGIN:DAYLIGHT
TZOFFSETFROM:+0100
TZOFFSETTO:+0200
TZNAME:CEST
DTSTART:20230326T010000
END:DAYLIGHT
BEGIN:STANDARD
TZOFFSETFROM:+0200
TZOFFSETTO:+0100
TZNAME:CET
DTSTART:20231029T010000
END:STANDARD
BEGIN:DAYLIGHT
TZOFFSETFROM:+0100
TZOFFSETTO:+0200
TZNAME:CEST
DTSTART:20240331T010000
END:DAYLIGHT
BEGIN:STANDARD
TZOFFSETFROM:+0200
TZOFFSETTO:+0100
TZNAME:CET
DTSTART:20241027T010000
END:STANDARD
END:VTIMEZONE
BEGIN:VEVENT
DTSTART;TZID=Europe/Amsterdam:20230503T200000
DTEND;TZID=Europe/Amsterdam:20230503T224500
DTSTAMP:20260424T011336
CREATED:20230211T121640Z
LAST-MODIFIED:20230313T210715Z
UID:3087-1683144000-1683153900@www.ujazz.nl
SUMMARY:UJazzkelder in Kargadoor: Blue Bird Collective + jamsessie
DESCRIPTION:Luisteren en meespelen in de Jazzkelder van UJazz\, op de 1e en 3e woensdag van de maand in de Kargadoor. Op woensdag 3 mei met Bue Bird Collective \nBlue Bird Collective bestaat uit vijf bevlogen muzikanten die elkaar hebben ontmoet tijdens hun jazzopleiding aan de Djam in Amsterdam. Ze spelen graag minder bekende standards met een eigen twist\, maar ook eigen werk of een verjazzde popsong. De band bestaat uit de volgende leden: \nRoos Dros\, zang \nSacha Koppert\, fluiten \nJacques van Leeuwen\, piano \nDerek van Beelen\, drums \nBas Hörchner\, bas  \nmeer info op: www.bluebirdcollective.nl \n\n\n\n\n\n\n\nBands die een opening willen verzorgen in de Jazzkelder van UJazz kunnen zich melden via eteunissen@email.com onder vermelding van ‘jazzkelder’. \n\n\n\nDe toegang deze avond is gratis. \nDe jazzkelder wordt mede mogelijk gemaakt door:
URL:https://www.ujazz.nl/event/ujazzkelder-in-kargadoor-moontoris-jamsessie-2/
LOCATION:kargadoor\, Oudegracht 36\, Utrecht\, 3511 AP\, Nederland
END:VEVENT
END:VCALENDAR