BEGIN:VCALENDAR
VERSION:2.0
PRODID:-//UJazz - ECPv6.15.20//NONSGML v1.0//EN
CALSCALE:GREGORIAN
METHOD:PUBLISH
X-WR-CALNAME:UJazz
X-ORIGINAL-URL:https://www.ujazz.nl
X-WR-CALDESC:Evenementen voor UJazz
REFRESH-INTERVAL;VALUE=DURATION:PT1H
X-Robots-Tag:noindex
X-PUBLISHED-TTL:PT1H
BEGIN:VTIMEZONE
TZID:Europe/Amsterdam
BEGIN:DAYLIGHT
TZOFFSETFROM:+0100
TZOFFSETTO:+0200
TZNAME:CEST
DTSTART:20240331T010000
END:DAYLIGHT
BEGIN:STANDARD
TZOFFSETFROM:+0200
TZOFFSETTO:+0100
TZNAME:CET
DTSTART:20241027T010000
END:STANDARD
BEGIN:DAYLIGHT
TZOFFSETFROM:+0100
TZOFFSETTO:+0200
TZNAME:CEST
DTSTART:20250330T010000
END:DAYLIGHT
BEGIN:STANDARD
TZOFFSETFROM:+0200
TZOFFSETTO:+0100
TZNAME:CET
DTSTART:20251026T010000
END:STANDARD
BEGIN:DAYLIGHT
TZOFFSETFROM:+0100
TZOFFSETTO:+0200
TZNAME:CEST
DTSTART:20260329T010000
END:DAYLIGHT
BEGIN:STANDARD
TZOFFSETFROM:+0200
TZOFFSETTO:+0100
TZNAME:CET
DTSTART:20261025T010000
END:STANDARD
END:VTIMEZONE
BEGIN:VEVENT
DTSTART;TZID=Europe/Amsterdam:20250125T183000
DTEND;TZID=Europe/Amsterdam:20250125T233000
DTSTAMP:20260419T230907
CREATED:20241112T192335Z
LAST-MODIFIED:20250124T161705Z
UID:3880-1737829800-1737847800@www.ujazz.nl
SUMMARY:UJazz festival
DESCRIPTION:  \n\n\n\n \n\n\n\nOp zaterdag 25 januari het 13e UJazzfest met het Henk Kraaijeveld Quintet\, Teus Nobel & Sara Brink Nielsen en als spetterende slotact Dulfer! Total Response met special guest Joseph Bowie. \n\n\n \nMeer info over de artiesten op de Festivalpagina \n\n\n \nTickets €32\,50 (leden UJazz €27\,50) via …. > HET FESTIVAL IS UITVERKOCHT
URL:https://www.ujazz.nl/event/ujazzfest-2025/
LOCATION:Parnassos\, Kruisstraat 201\, Utrecht\, 33581 GK\, Nederland
CATEGORIES:festival
END:VEVENT
END:VCALENDAR