BEGIN:VCALENDAR
VERSION:2.0
PRODID:-//UJazz - ECPv6.15.20//NONSGML v1.0//EN
CALSCALE:GREGORIAN
METHOD:PUBLISH
X-ORIGINAL-URL:https://www.ujazz.nl
X-WR-CALDESC:Evenementen voor UJazz
REFRESH-INTERVAL;VALUE=DURATION:PT1H
X-Robots-Tag:noindex
X-PUBLISHED-TTL:PT1H
BEGIN:VTIMEZONE
TZID:Europe/Amsterdam
BEGIN:DAYLIGHT
TZOFFSETFROM:+0100
TZOFFSETTO:+0200
TZNAME:CEST
DTSTART:20240331T010000
END:DAYLIGHT
BEGIN:STANDARD
TZOFFSETFROM:+0200
TZOFFSETTO:+0100
TZNAME:CET
DTSTART:20241027T010000
END:STANDARD
BEGIN:DAYLIGHT
TZOFFSETFROM:+0100
TZOFFSETTO:+0200
TZNAME:CEST
DTSTART:20250330T010000
END:DAYLIGHT
BEGIN:STANDARD
TZOFFSETFROM:+0200
TZOFFSETTO:+0100
TZNAME:CET
DTSTART:20251026T010000
END:STANDARD
BEGIN:DAYLIGHT
TZOFFSETFROM:+0100
TZOFFSETTO:+0200
TZNAME:CEST
DTSTART:20260329T010000
END:DAYLIGHT
BEGIN:STANDARD
TZOFFSETFROM:+0200
TZOFFSETTO:+0100
TZNAME:CET
DTSTART:20261025T010000
END:STANDARD
END:VTIMEZONE
BEGIN:VEVENT
DTSTART;TZID=Europe/Amsterdam:20250207T200000
DTEND;TZID=Europe/Amsterdam:20250207T223000
DTSTAMP:20260419T212700
CREATED:20241215T132155Z
LAST-MODIFIED:20250203T180922Z
UID:3949-1738958400-1738967400@www.ujazz.nl
SUMMARY:Nieuwe Jazz - Chamber Jazz Consort - Blue in Green
DESCRIPTION:  \n\n\n\n \nIn seizoen 2024-2025 organiseren UJazz en ZenneZ records\, samen met TivoliVredenburg\, een serie Nieuwe Jazz\, met presentaties van nieuwe albums. Op vrijdag 7 februari het Chamber Jazz Consort met het album Blue in Green. \nChamber Jazz Consort maakt deel uit van Brussels Muzieque\, een kunstenaarscollectief dat muzikanten een platform biedt om samen te werken en nieuwe formats en repertoires te verkennen. Het ensemble opereert als een veelzijdig collectief\, dat optredens presenteert in verschillende formaties zoals trio’s\, kwintetten en zelfs grotere ensembles. \nHet hart van Chamber Jazz Consort bestaat uit: Oene van Geel\, bekroond jazzviolist die bekendstaat om zijn onderscheidende stijl en innovatieve aanpak. Eduardo Tonietto\, een vooraanstaand cellist en artistiek directeur van Brussels Muzieque\, draagt ​​zijn uitzonderlijke vaardigheden bij en brengt het ensemble in het rijke erfgoed van de Braziliaanse muziek. Anton Jakimenko voegt zijn unieke mix van klassieke en jazzinvloeden toe\, wat het geluid van de groep verder verrijkt. Het ensemble boogt ook op het talent van Sarah Oates\, concertmeester van het Ballet Orchestra Amsterdam\, wiens leiderschap en muzikaliteit cruciaal zijn voor de optredens van de groep. Het vijfde lid is de Letse Eline Buksha\, winnaar van diverse prijzen en eerste violiste van het Parijse Quatuor Mona. Buksha speelde onder meer samen met Maria Joao Pires en Midori. Samen creëren deze muzikanten een mix van klassiek en jazz\, waarbij ze het publiek betoveren met hun uitzonderlijke talent en synergie \nBlue in Green is hun betoverende debuut waarin kamermuziek en jazz samensmelten\, zoals in het titelnummer – een origineel van Miles Davis/Bill Evans \nYoutube: Chamber Jazz Consort – Blue in Green \n  \nToegang €15\,- (UJazz leden €10\,-) \nLET OP: dit concert is in Theater de Berenkuil \n\n\n \nKaarten aan de zaal en te bestellen via ujazz.weticket/chamber-jazz-consort \nUJazz werkt samen met wearepublic.nl
URL:https://www.ujazz.nl/event/nieuwe-jazz-chamber-jazz-consort-blue-in-green/
LOCATION:Theaterhuis de Berenkuil\, Biltstraat 166\, Utrecht\, 3572 BP\, Netherlands
CATEGORIES:concert
END:VEVENT
BEGIN:VEVENT
DTSTART;TZID=Europe/Amsterdam:20250221T200000
DTEND;TZID=Europe/Amsterdam:20250221T223000
DTSTAMP:20260419T212700
CREATED:20241215T140252Z
LAST-MODIFIED:20241226T151014Z
UID:3964-1740168000-1740177000@www.ujazz.nl
SUMMARY:Clubconcert: Rave/Taubenfeld/De Joode/ Škorić
DESCRIPTION:In seizoen 2024-2025 organiseert UJazz een serie clubconcerten\, elke 3e vrijdag van de maand. Op vrijdag 21 februari met het kwartet Rave/Taubenfeld/De Joode/ Škorić  \n\n\n\n\n\n\n\nDit kwartet van Ziv Taubenfeld brengt veel energie en improvisatie in hun muziek. Het pad van de groepsleden kruiste elkaar al verschillende keren. En\, als sterke persoonlijkheden samen op een podium staan\, gebeuren er wonderlijke dingen… \nLine up: \nZiv Taubenfeld – basklarinet \nAda Rave – sax \nWilbert de Joode – bas \nAleksander Škorić  – drums \n  \n\n\n\n\nTicket €15\,- (UJazz leden €10\,-) \nLet op: dit concert is in Theaterhuis de Berenkuil! \n\n\n\nKaarten aan de zaal en te bestellen via ujazz/rave/taubenfeld \nUJazz werkt samen met wearepublic.nl \nUJazz organiseert de clubconcerten samen met TivoliVredenburg \n \n 
URL:https://www.ujazz.nl/event/clubconcert-rave-taubenfeld-de-joode-skoric/
LOCATION:Theaterhuis de Berenkuil\, Biltstraat 166\, Utrecht\, 3572 BP\, Netherlands
END:VEVENT
END:VCALENDAR