BEGIN:VCALENDAR
VERSION:2.0
PRODID:-//UJazz - ECPv6.15.20//NONSGML v1.0//EN
CALSCALE:GREGORIAN
METHOD:PUBLISH
X-WR-CALNAME:UJazz
X-ORIGINAL-URL:https://www.ujazz.nl
X-WR-CALDESC:Evenementen voor UJazz
REFRESH-INTERVAL;VALUE=DURATION:PT1H
X-Robots-Tag:noindex
X-PUBLISHED-TTL:PT1H
BEGIN:VTIMEZONE
TZID:Europe/Amsterdam
BEGIN:DAYLIGHT
TZOFFSETFROM:+0100
TZOFFSETTO:+0200
TZNAME:CEST
DTSTART:20240331T010000
END:DAYLIGHT
BEGIN:STANDARD
TZOFFSETFROM:+0200
TZOFFSETTO:+0100
TZNAME:CET
DTSTART:20241027T010000
END:STANDARD
BEGIN:DAYLIGHT
TZOFFSETFROM:+0100
TZOFFSETTO:+0200
TZNAME:CEST
DTSTART:20250330T010000
END:DAYLIGHT
BEGIN:STANDARD
TZOFFSETFROM:+0200
TZOFFSETTO:+0100
TZNAME:CET
DTSTART:20251026T010000
END:STANDARD
BEGIN:DAYLIGHT
TZOFFSETFROM:+0100
TZOFFSETTO:+0200
TZNAME:CEST
DTSTART:20260329T010000
END:DAYLIGHT
BEGIN:STANDARD
TZOFFSETFROM:+0200
TZOFFSETTO:+0100
TZNAME:CET
DTSTART:20261025T010000
END:STANDARD
END:VTIMEZONE
BEGIN:VEVENT
DTSTART;TZID=Europe/Amsterdam:20251017T200000
DTEND;TZID=Europe/Amsterdam:20251017T223000
DTSTAMP:20260424T014244
CREATED:20250608T084806Z
LAST-MODIFIED:20250704T110700Z
UID:4130-1760731200-1760740200@www.ujazz.nl
SUMMARY:Clubconcert - Barend Middelhoff kwartet
DESCRIPTION:UJazz en TivoliVredenburg organiseren elke 3e vrijdag van de maand een clubconcert.  Op vrijdag 17 oktober 2025 met het Barend Middelhoff kwartet \n\n\n\n\nToen Barend Middelhoff in 1998 van Amsterdam naar Parijs vertrok kwam er logischerwijs een einde aan de samenwerking met de diverse groepen waarvan hij deel uit maakte zoals The Houdini’s\, Trio Engels/Middelhoff/De Wijs en Corrie en de Grote Brokken. Van Parijs verhuisde hij naar Bologna waar hij nu al sinds twee decennia woont\, en lesgeeft aan de jazz-afdeling van het “Conservatorio GB Martini”. \nMet zijn eigen Barend Middelhoff Kwartet nam hij een laatste album op in 1997 (The River). Samen met Anton Goudsmit\, Joris Teepe en Joost Kesselaar toerden ze in de jaren ’90 in Nederland\, Europa\, maar ook in New York waar het eerste album (Soil) werd opgenomen. Maar zoals gezegd: “Oude liefde roest niet” dus vanaf heden pakken zij de draad weer op. Na 30 jaar is duidelijk dat de ‘Sound’ van dit avontuurlijke kwartet nog sterker en persoonlijker is geworden. Geworteld in de traditie met een groot verlangen naar de toekomst! \nDe Amsterdamse gitarist Anton Goudsmit is een wervelwind van creativiteit\, in staat de luisteraar te fascineren met zijn verbluffende gitaarspel en levendige persoonlijkheid. \nIn 1992 verliet bassist Joris Teepe zijn thuisland Nederland om zijn droom om jazzmuzikant te worden in New York na te jagen. Joris nam 22 albums opgenomen als leider of co-leider en ruim 65 als sideman. Zijn langste periode was bij Rashied Ali (de laatste drummer van John Coltrane)\, met wie hij tussen 2000 en 2009 de wereld rondtoerde. \nJoost Kesselaar is een ervaren en veelzijdige jazzdrummer met een indrukwekkende carrière die zich uitstrekt over meerdere decennia. Hij heeft met veel vooraanstaande jazzmuzikanten gewerkt en heeft opgetreden op prestigieuze jazzfestivals en in theaters wereldwijd. \n\nBezetting \nBarend Middelhoff – tenorsaxofoon \nAnton Goudsmit – gitaar \nJoris Teepe – bas \nJoost Kesselaar – drums \n  \n\n\n\nTicket €15\,- (UJazz leden €10\,-) \nLocatie: Muziekhuis Utrecht\, Loevenhoutsedijk 301 \n\n\n\nUJazz werkt samen met wearepublic.nl \nUJazz organiseert de clubconcerten samen met TivoliVredenburg \n \n 
URL:https://www.ujazz.nl/event/clubconcert-barend-middelhoff-kwartet/
LOCATION:Muziekhuis Utrecht\, Loevenhoutsedijk 301\, Utrecht\, 3552 XE
ATTACH;FMTTYPE=image/png:https://www.ujazz.nl/wp-content/uploads/2025/06/Barend-Middelhoff-Kwartet-1997.png
END:VEVENT
BEGIN:VEVENT
DTSTART;TZID=Europe/Amsterdam:20251026T201500
DTEND;TZID=Europe/Amsterdam:20251026T210000
DTSTAMP:20260424T014244
CREATED:20251013T081640Z
LAST-MODIFIED:20251013T081640Z
UID:4269-1761509700-1761512400@www.ujazz.nl
SUMMARY:Presentatie workshop olv Ruben Drenth
DESCRIPTION:Een energieke workshop op het snijvlak van jazzimprovisatie en (jaren 60) popmuziek. De bindende factor is de blues\, en met de blues in je achterhoofd  staan Charles Mingus en Mick Jagger minder ver uit elkaar dan je zou denken. \nZeven avonden heeft de groep samen met Ruben gewerkt aan improvisatie in deze uiteenlopende muziekstijlen\, ontleed in losse bouwstenen zoals ritme\, notenmateriaal\, textuur en vorm. \nKom luisteren naar de eindpresentatie op zondagavond 26 oktober op de Rabo Open Stage in de hal van TivoliVredenburg. De toegang is gratis.
URL:https://www.ujazz.nl/event/presentatie-workshop-olv-ruben-drenth/
LOCATION:TivoliVredenburg\, Vredenburgkade 11\, Utrecht\, Nederland
ATTACH;FMTTYPE=image/jpeg:https://www.ujazz.nl/wp-content/uploads/2024/12/Banner-Ruben-Drenth.jpg
END:VEVENT
END:VCALENDAR