BEGIN:VCALENDAR
VERSION:2.0
PRODID:-//UJazz - ECPv6.15.20//NONSGML v1.0//EN
CALSCALE:GREGORIAN
METHOD:PUBLISH
X-ORIGINAL-URL:https://www.ujazz.nl
X-WR-CALDESC:Evenementen voor UJazz
REFRESH-INTERVAL;VALUE=DURATION:PT1H
X-Robots-Tag:noindex
X-PUBLISHED-TTL:PT1H
BEGIN:VTIMEZONE
TZID:Europe/Amsterdam
BEGIN:DAYLIGHT
TZOFFSETFROM:+0100
TZOFFSETTO:+0200
TZNAME:CEST
DTSTART:20240331T010000
END:DAYLIGHT
BEGIN:STANDARD
TZOFFSETFROM:+0200
TZOFFSETTO:+0100
TZNAME:CET
DTSTART:20241027T010000
END:STANDARD
BEGIN:DAYLIGHT
TZOFFSETFROM:+0100
TZOFFSETTO:+0200
TZNAME:CEST
DTSTART:20250330T010000
END:DAYLIGHT
BEGIN:STANDARD
TZOFFSETFROM:+0200
TZOFFSETTO:+0100
TZNAME:CET
DTSTART:20251026T010000
END:STANDARD
BEGIN:DAYLIGHT
TZOFFSETFROM:+0100
TZOFFSETTO:+0200
TZNAME:CEST
DTSTART:20260329T010000
END:DAYLIGHT
BEGIN:STANDARD
TZOFFSETFROM:+0200
TZOFFSETTO:+0100
TZNAME:CET
DTSTART:20261025T010000
END:STANDARD
END:VTIMEZONE
BEGIN:VEVENT
DTSTART;TZID=Europe/Amsterdam:20251107T200000
DTEND;TZID=Europe/Amsterdam:20251107T223000
DTSTAMP:20260424T000357
CREATED:20250621T183940Z
LAST-MODIFIED:20251106T203311Z
UID:4120-1762545600-1762554600@www.ujazz.nl
SUMMARY:Nieuwe Jazz - Ruud Voestens Ambrosia - releaseconcert
DESCRIPTION:In seizoen 2025-2026 organiseren UJazz en ZenneZ records\, samen met TivoliVredenburg\, een serie Nieuwe Jazz\, met presentaties van nieuwe albums. Op vrijdag 7 november het officiële releaseconcert van het nieuwe album Purgatorio van Ruud Voestens Ambrosia. \nPurgatorio is het tweede deel in zijn muzikale bewerking van Dante’s Goddelijke Komedie. Het volgt op het in 2023 verschenen Inferno-album. \nHet werd een persoonlijke zoektocht\, door de negen kringen van de hel\, naar Ruud z’n persoonlijke verbinding met de hoofdzonden. Het reflecteren op thema’s als lust\, woede en verraad\, vertaalde zich muzikaal in ‘Ambrosia’\, een plaat die langs prestigieuze podia leidde als Bimhuis\, De Doelen en Theater Orpheus. \nHet nieuwe album is een ontroerende muzikale reis door de zeven terrassen van de Louteringsberg. Elke compositie correspondeert met een van de zeven hoofdzonden\, en weerspiegelt zo de structuur van Purgatorio. De muziek beweegt zich van donkere\, introspectieve stukken die trots en afgunst vertegenwoordigen naar meer verheffende\, etherische composities die de klim naar het paradijs symboliseren. De stukken reflecteren Ruuds persoonlijke zoektocht en persoonlijke verbindingen op thema’s als lust\, woede en verraad. Het improvisatietalent van de band komt tot uiting in uitgebreide passages die elke muzikant de ruimte geven om het emotionele landschap van Dante’s gedicht te interpreteren. \nDit nieuw album toont de evolutie van Ambrosia als band\, waarbij hun hedendaagse jazzsound wordt vermengd met elementen uit de hedendaagse klassieke en elektronische muziek. Voesten’s composities kenmerken zich door complexe ritmische structuren en harmonische progressies. \nVoestens band Ambrosia bestaat uit gerenommeerde jonge musici van wie er enkele vorig seizoen al prachtig spel bij UJazz concerten lieten zien! \nBezetting \nRuud Voesten – drums & compositie \nMo van der Does – altsaxofoon & klarinet \nWietse Voermans – tenor/bariton saxofoon & klarinet \nKoen Schalkwijk – piano & synthesizer \nTon Felices – contrabas \n  \nTicket €15\,- (UJazz leden €10\,-) \nLocatie – Muziekhuis Utrecht \n\n\n \nKaarten aan de zaal en te bestellen via: ticket link volgt \nUJazz werkt samen met wearepublic.nl
URL:https://www.ujazz.nl/event/nieuwe-jazz-ruud-voesten/
LOCATION:Muziekhuis Utrecht\, Loevenhoutsedijk 301\, Utrecht\, 3552 XE
CATEGORIES:concert
END:VEVENT
BEGIN:VEVENT
DTSTART;TZID=Europe/Amsterdam:20251108T100000
DTEND;TZID=Europe/Amsterdam:20251109T153000
DTSTAMP:20260424T000357
CREATED:20250624T093528Z
LAST-MODIFIED:20251015T174821Z
UID:4156-1762596000-1762702200@www.ujazz.nl
SUMMARY:Latin weekendworkshop voor Beginners
DESCRIPTION:Deze workshop zit vol. \nWelkom bij een inspirerende en vooral heel praktijkgerichte duik in de wereld van Afro-Cubaanse muziek! Aan de slag dus met veel swingende Cubaanse ritmes\, samenspel en improvisatie. We gaan dit leren spelen in de vorm van een ‘descarga’ (een Cubaanse jam sessie) en bekende Latin standards. We verkennen samen verschillende grooves en de interactie tussen de ritmesectie\, de blazers en de zangers. Ook maken we kennis met belangrijke basisingrediënten zoals ‘mambos’ en ‘coro-pregón’. Natuurlijk is er volop ruimte voor solo’s en improvisatie. Het kunnen lezen van bladmuziek is niet noodzakelijk\, een redelijk basisniveau op je instrument wel. Het draait allemaal om het plezier van samen muziek maken en swingen! \nThomas Böttcher is een ervaren pianist\, componist en arrangeur met uitgebreide expertise in jazz-\, pop- wereldmuziek. Hij is gespecialiseerd in latin jazz en salsa\, schrijft composities in verschillende stijlen voor ensembles en is daarnaast ook tekstschrijver. Tevens werkt hij als bandcoach en ondersteunt muziekgroepen\, biedt pianolessen en workshops aan en geeft masterclasses. Thomas is medeoprichter van het latin jazz kwintet Viento Terral en de salsaband Seis en Salsa Hij speelde onder andere bij Nueva Manteca\, zanger Luisito Rosario\, trompettiste Maite Hontelé en multi-instrumentalist Linda Briceño. \nthomasboettchermusic.com \nData workshop:         zaterdag 8 en zondag 9 november 2025\nTijd:                             10.00 tot 15.30 uur\nPlaats:                         Muziekhuis Utrecht\nPresentatie:                Zondagmiddag 9 november om 16.00 uur in Muziekhuis Utrecht\nKosten:                        UJazz leden €70\,- overige €80\,-\nAanmelding en informatie:    workshop@ujazz.nl
URL:https://www.ujazz.nl/event/latin-workshop-voor-beginners/
LOCATION:Muziekhuis Utrecht\, Loevenhoutsedijk 301\, Utrecht\, 3552 XE
ATTACH;FMTTYPE=image/jpeg:https://www.ujazz.nl/wp-content/uploads/2025/06/Banner-Thomas-1.jpg
END:VEVENT
BEGIN:VEVENT
DTSTART;TZID=Europe/Amsterdam:20251109T160000
DTEND;TZID=Europe/Amsterdam:20251109T170000
DTSTAMP:20260424T000357
CREATED:20251013T082337Z
LAST-MODIFIED:20251104T101927Z
UID:4272-1762704000-1762707600@www.ujazz.nl
SUMMARY:Presentatie workshop Thomas Böttcher
DESCRIPTION:A gozar! Een Latin workshop voor Beginners\, een inspirerende en praktijkgerichte duik in de wereld van Afro-Cubaanse muziek! Deze groep is aan de slag gegaan met veel swingende Cubaanse ritmes\, samenspel en improvisatie\, in de vorm van een ‘descarga’ (een Cubaanse jam sessie) en bekende Latin standards. \nKom luisteren en swing mee. Deze eindpresentatie is in de zaal van het Muziekhuis Utrecht op zondagmiddag 9 november om 16.15 uur. De toegang is gratis.
URL:https://www.ujazz.nl/event/presentatie-workshop-thomas-bottcher/
LOCATION:Muziekhuis Utrecht\, Loevenhoutsedijk 301\, Utrecht\, 3552 XE
ATTACH;FMTTYPE=image/jpeg:https://www.ujazz.nl/wp-content/uploads/2025/06/Banner-Thomas-1.jpg
END:VEVENT
BEGIN:VEVENT
DTSTART;TZID=Europe/Amsterdam:20251114T200000
DTEND;TZID=Europe/Amsterdam:20251114T220000
DTSTAMP:20260424T000357
CREATED:20250831T115339Z
LAST-MODIFIED:20251112T202833Z
UID:4232-1763150400-1763157600@www.ujazz.nl
SUMMARY:UJazz Release concert - Linde Tillmanns Mellow Heart Music
DESCRIPTION:Speciaal releaseconcert vrijdag 14 november \nUJazz ondersteunt jonge jazzmusici. Vorig seizoen kreeg het concert van Linde Tillmanns in de serie Nieuwe Jazz veel enthousiaste reacties. Daarom reageerden wij direct positief op de vraag van Linde om haar nieuwe soloalbum Mellow Heart Music bij ons te releasen. Op dit album neemt Linde je mee op een zeiltocht en verkent ze de kusten die worden aangedaan. Live kunnen Lindes routes elke keer anders zijn; improvisatie komt voort uit wat zij én het publiek op dat moment meemaken. Meer is niet nodig: een vleugel\, Linde en het moment! \nMeer info: \nlindetillmanns.com\,   Linde in de Roode Remise en de offical music video \n\n\n\nticket  €10\,- (UJazz leden €7\,50) \n\n\n \nKaarten aan de zaal en te bestellen via: ujazz linde tillmanns
URL:https://www.ujazz.nl/event/ujazz-releaseconcert-linde-tillmanns-nieuwe-album-mellow-heart-music-14-november-2025-20u-muziekhuis-utrecht/
LOCATION:Muziekhuis Utrecht\, Loevenhoutsedijk 301\, Utrecht\, 3552 XE
CATEGORIES:concert
END:VEVENT
BEGIN:VEVENT
DTSTART;TZID=Europe/Amsterdam:20251121T200000
DTEND;TZID=Europe/Amsterdam:20251121T223000
DTSTAMP:20260424T000357
CREATED:20250913T074727Z
LAST-MODIFIED:20251109T194646Z
UID:4135-1763755200-1763764200@www.ujazz.nl
SUMMARY:Clubconcert - Utrecht Jazz Archipel - Urban Mosaic
DESCRIPTION:UJazz en TivoliVredenburg organiseren elke 3e vrijdag van de maand een clubconcert. Op vrijdag 21 november 2025 met Utrecht Jazz Archipel \nHet programma Urban Mosaic van Utrecht Jazz Archipel is een multidisciplinair live‑project waarin jazz\, poëzie en beeldende kunst samenkomen\, met de stad als inspiratiebron — zowel haar lichte kanten als de schaduwkanten. \nTwaalf dichter-componisten-duo’s werkten aan een verhaal dat ’s morgens vroeg begint en diep in de nacht eindigt. Daarbij maakte Mirjam Debets prachtige visuals. In woord\, beeld en klank weerspiegelen we de stad in haar aantrekkelijkheid en schaduwzijden. We vangen de tijdgeest via onderwerpen als hittestress\, feest en uitsluiting en via stadsbewoners als student\, vluchteling en dakloze.  \nVanavond draagt dichter Anne Broeksma stadsgedichten voor\, begeleid door een van de muzikanten. Alle gedichten staan in het programmaboekje\, om mee te lezen en naderhand nog eens te bekijken. Je krijgt dus als het ware een dichtbundel mee naar huis! \nBij de Utrecht Jazz Archipel is ‘het geheel meer dan de som der delen’: vanuit die overtuiging startte de Utrecht Jazz Archipel. Negen wijd en zijd gelauwerde Utrechtse jazzmusici begonnen in 2015 virtuoos en energiek elkaars composities te spelen\, regelmatig in samenwerking met jong talent en met gevestigde jazzmuzikanten. Iedere muzikant heeft een unieke stijl van spelen en van componeren en arrangeren\, publiek wordt ‘spelenderwijs’ meegevoerd in alle melodische en ritmische avonturen. Dit resulteert in een divers jazzrepertoire\, van modale flow-jazz tot op vrije improvisatie gebaseerde composities. \nBezetting: \nHenk Kraaijeveld – zang\, componistDion Nijland – bas\, componistMees Siderius – drums\, componistLida Brouskari – piano\, componistAd Colen – tenor/baritonsax\, componistAviv Noam – sax\, componistKees Adolfsen – trombone\, dichterGerben Klein Willink – trompet\, componist \nAnimatie: Mirjam DebetsEindregie: Annechien Koerselman \nTicket  €15\,- (UJazz leden €10\,-) \n\n\n\nUJazz werkt samen met wearepublic.nl \nUJazz organiseert de clubconcerten samen met TivoliVredenburg \n \n 
URL:https://www.ujazz.nl/event/clubconcert-utrecht-jazz-archipel-21-november-2025-utrecht-ujazz-urban-mosaic-multidisciplinair-live%e2%80%91project/
LOCATION:Muziekhuis Utrecht\, Loevenhoutsedijk 301\, Utrecht\, 3552 XE
END:VEVENT
END:VCALENDAR