BEGIN:VCALENDAR
VERSION:2.0
PRODID:-//UJazz - ECPv6.15.20//NONSGML v1.0//EN
CALSCALE:GREGORIAN
METHOD:PUBLISH
X-ORIGINAL-URL:https://www.ujazz.nl
X-WR-CALDESC:Evenementen voor UJazz
REFRESH-INTERVAL;VALUE=DURATION:PT1H
X-Robots-Tag:noindex
X-PUBLISHED-TTL:PT1H
BEGIN:VTIMEZONE
TZID:Europe/Amsterdam
BEGIN:DAYLIGHT
TZOFFSETFROM:+0100
TZOFFSETTO:+0200
TZNAME:CEST
DTSTART:20250330T010000
END:DAYLIGHT
BEGIN:STANDARD
TZOFFSETFROM:+0200
TZOFFSETTO:+0100
TZNAME:CET
DTSTART:20251026T010000
END:STANDARD
BEGIN:DAYLIGHT
TZOFFSETFROM:+0100
TZOFFSETTO:+0200
TZNAME:CEST
DTSTART:20260329T010000
END:DAYLIGHT
BEGIN:STANDARD
TZOFFSETFROM:+0200
TZOFFSETTO:+0100
TZNAME:CET
DTSTART:20261025T010000
END:STANDARD
BEGIN:DAYLIGHT
TZOFFSETFROM:+0100
TZOFFSETTO:+0200
TZNAME:CEST
DTSTART:20270328T010000
END:DAYLIGHT
BEGIN:STANDARD
TZOFFSETFROM:+0200
TZOFFSETTO:+0100
TZNAME:CET
DTSTART:20271031T010000
END:STANDARD
END:VTIMEZONE
BEGIN:VEVENT
DTSTART;TZID=Europe/Amsterdam:20260124T190000
DTEND;TZID=Europe/Amsterdam:20260124T223000
DTSTAMP:20260421T120830
CREATED:20251122T162756Z
LAST-MODIFIED:20251222T175608Z
UID:4341-1769281200-1769293800@www.ujazz.nl
SUMMARY:UJazzfest 2026
DESCRIPTION:﻿\n  \nDe 14e editie van het UJazzFest 2026 vindt plaats op zaterdag 24 januari in het  Vorstelijk Complex in Zuilen. \nDrie formaties zijn geprogrammeerd: we starten met Bonsai Panda en eindigen met het Nu Art Orchestra. Tussenin speelt het Lucas Bakker Quartet\, een van de finalisten van het Prinses Christina Jazz Concours aan wie we de UJazzfestivalprijs toekenden. Masterstudenten van de HKU verzorgden weer de entr’actes met onder meer de saxofoniste Kirsi Harju.  \nMeer info vind je op de festivalpagina \nTickets  €27\,50 (€22\,50 leden UJazz) \n  \n 
URL:https://www.ujazz.nl/event/ujazzfest-2026/
LOCATION:ZIMIHC theater Zuilen / Vorstelijk Complex\, Prinses Christinalaan 1\, Utrecht\, 3554 JL\, Netherlands
ATTACH;FMTTYPE=image/jpeg:https://www.ujazz.nl/wp-content/uploads/2025/11/logo-UJF2026datum.jpg
END:VEVENT
BEGIN:VEVENT
DTSTART;TZID=Europe/Amsterdam:20260129T193000
DTEND;TZID=Europe/Amsterdam:20260129T223000
DTSTAMP:20260421T120830
CREATED:20251104T125341Z
LAST-MODIFIED:20251222T092204Z
UID:4290-1769715000-1769725800@www.ujazz.nl
SUMMARY:Workshop 'The Hancock groove' door Folker Tettero
DESCRIPTION:﻿Ontdek de muziek van Herbie Hancock; één van de grootste vernieuwers in de jazz en funk! In deze workshop duik je in zijn muziek vol energie\, kleur en ritme. Samen onderzoeken we wat zijn muziek zo onweerstaanbaar maakt. Of je nu speelt op piano\, drums\, bas\, gitaar of blaasinstrument. Herbie Hancock staat bekend om zijn geweldige gevoel voor timing en groove. Voel de groove en verbeter je timing\, voel de groove en verbeter je improvisatie\, voel de groove en communiceer beter met je medemuzikanten. \nVoor beginnende en gevorderde deelnemers\, je moet je instrument beheersen en het is fijn als je enige kennis hebt van akkoorden en toonladders. \nGitarist Folker Tettero is bekend om zijn energieke spel\, brede muzikale kennis en aanstekelijk enthousiasme. Folker beweegt moeiteloos tussen jazz\, funk en soul en weet als geen ander hoe je groove\, timing en improvisatie samenbrengt tot een levendige performance. Hij heeft jarenlange ervaring als docent\, bandleider en uitvoerend muzikant\, en weet precies hoe hij zowel beginnende als gevorderde spelers kan inspireren om met meer vrijheid en vertrouwen te spelen. Laat je inspireren door Herbie Hancock\, voel de groove\, en speel met lef! \nData workshop: Donderdag 29 jan\, 5\, 12\, 26 febr\, 5\,12\, 19 maart 2026\nTijd:                      19.30 tot 22.30 uur Let op deze workshop is op donderdagavond!\nPlaats:                  Muziekhuis Utrecht\, Loevenhoutsedijk 301\nPresentatie:         Zondagavond 22 maart 2026 in TivoliVredenburg\nKosten:                 UJazz leden €120\,- overige €132\,-\nAanmelding en informatie: workshop@ujazz.nl
URL:https://www.ujazz.nl/event/workshop-the-hancock-groove-door-folker-tettero/
LOCATION:Muziekhuis Utrecht\, Loevenhoutsedijk 301\, Utrecht\, 3552 XE
ATTACH;FMTTYPE=image/jpeg:https://www.ujazz.nl/wp-content/uploads/2025/11/banner-Folker.jpg
END:VEVENT
END:VCALENDAR